Workbook

Sheet 표지
C5: 견 적 서
A18: 공사명 : 유원대학교 냉,난방기 교체공사

Sheet 원가계산서
B1: 공 사 원 가 계 산 서
B2: 공사명 : | F2: =" 금액 : "&NUMBERSTRING(E30,1)&"원"&" (\"&TEXT(E30,"#,###")&")" -> 금액 : 영원 (\)
B3: 비 목 | E3: 금 액 | F3: 구 성 비 | G3: 비 고
A4: A1 | B4: 순 공 사 원 가 | C4: 재 료 비 | D4: 직 접 재 료 비 | E4: =공종별집계표!F18 -> 0
A5: A2 | D5: 간 접 재 료 비 | E5: 0
A6: A3 | D6: 작 업 부 산 물
A7: AS | D7: [ 소 계 ] | E7: =TRUNC(E4+E5-E6,0) -> 0
A8: B1 | C8: 노 무 비 | D8: 직 접 노 무 비 | E8: =공종별집계표!H18 -> 0
A9: B2 | D9: 간 접 노 무 비 | E9: =E8*0.15 -> 0 | F9: 직접노무비 * 15%
A10: BS | D10: [ 소 계 ] | E10: =TRUNC(E8+E9,0) -> 0
A11: C2 | C11: 경 비 | D11: 경 비 | E11: =공종별집계표!J18 -> 0
A12: C4 | D12: 산 재 보 험 료 | E12: =TRUNC(E10*0.0356,0) -> 0 | F12: 노무비 * 3.56%
A13: C5 | D13: 고 용 보 험 료 | E13: =TRUNC(E10*0.0101,0) -> 0 | F13: 노무비 * 1.01%
A14: CA | D14: 국민 건강 보험료 | E14: =E8*0.03595 -> 0 | F14: 직접노무비 * 3.595%
D15: 국민 연금 보험료 | E15: =E8*0.0475 -> 0 | F15: 직접노무비 * 4.75%
A16: CA | D16: 안전관리비
A17: CA | D17: 노인장기요양보험료 | E17: =E14*0.1314 -> 0 | F17: 건강보험료 * 13.14%
A18: CA | D18: 산업안전보건관리비
A19: CH | D19: 환 경 보 전 비
A20: CG | D20: 기 타 경 비
A21: CL | D21: 건설기계대여금지급보증서발급수수료
A22: CS | D22: [ 소 계 ] | E22: =TRUNC(E11+E12+E13+E18+E20+E19+E21,0) -> 0
A23: S1 | B23: 계 | E23: =TRUNC(E7+E10+E22,0) -> 0
A24: D1 | B24: 일 반 관 리 비 | E24: =TRUNC(E23*0.05,0) -> 0 | F24: 계 * 5%
A25: D2 | B25: 이 윤 | E25: =TRUNC((E10+E22+E24)*0.1,0) -> 0 | F25: (노무비 + 경비 + 일반관리비) * 10%
A26: D4 | B26: 건설폐기물처리비
A27: D9 | B27: 공 급 가 액 | E27: =TRUNC(E23+E24+E25+E26,0) -> 0
A28: DB | B28: 부 가 가 치 세 | E28: =TRUNC(E27*0.1,0) -> 0 | F28: 공급가액 * 10%
A29: DH | B29: 도 급 액 | E29: =TRUNC(E27+E28,0) -> 0
A30: S2 | B30: 총 공 사 비 | F30: ※단위절사

Sheet 공종별집계표
A1: 공 종 별 집 계 표
A3: 품 명 | B3: 규 격 | C3: 단위 | D3: 수량 | E3: 재 료 비 | G3: 노 무 비 | I3: 경 비 | K3: 합 계 | M3: 비 고
E4: 단 가 | F4: 금 액 | G4: 단 가 | H4: 금 액 | I4: 단 가 | J4: 금 액 | K4: 단 가 | L4: 금 액
A5: 냉,난방기 교체공사 | C5: 식 | D5: 1 | E5: =F6+F14+F15+F16 -> 0 | F5: =E5*D5 -> 0 | G5: =H6+H14+H15+H16 -> 0 | H5: =G5*D5 -> 0 | I5: =J6+J14+J15+J16 -> 0 | J5: =I5*D5 -> 0 | K5: =E5+G5+I5 -> 0 | L5: =F5+H5+J5 -> 0
A6: =심우관5층!A4 -> 1. 유원대학교 | C6: 식 | D6: 1 | E6: =심우관5층!F22+창조관5층!F22+창조관4층!F22 -> 0 | F6: =E6*D6 -> 0 | G6: =심우관5층!H22+창조관5층!H22+창조관4층!H22 -> 0 | H6: =G6*D6 -> 0 | I6: =심우관5층!J22 -> 0 | J6: =I6*D6 -> 0 | K6: =E6+G6+I6 -> 0 | L6: =F6+H6+J6 -> 0
F7: =E7*D7 -> 0 | H7: =G7*D7 -> 0 | J7: =I7*D7 -> 0 | K7: =E7+G7+I7 -> 0 | L7: =F7+H7+J7 -> 0
F8: =E8*D8 -> 0 | H8: =G8*D8 -> 0 | J8: =I8*D8 -> 0 | K8: =E8+G8+I8 -> 0 | L8: =F8+H8+J8 -> 0
F9: =E9*D9 -> 0 | H9: =G9*D9 -> 0 | J9: =I9*D9 -> 0 | K9: =E9+G9+I9 -> 0 | L9: =F9+H9+J9 -> 0
F10: =E10*D10 -> 0 | H10: =G10*D10 -> 0 | J10: =I10*D10 -> 0 | K10: =E10+G10+I10 -> 0 | L10: =F10+H10+J10 -> 0
F11: =E11*D11 -> 0 | H11: =G11*D11 -> 0 | J11: =I11*D11 -> 0 | K11: =E11+G11+I11 -> 0 | L11: =F11+H11+J11 -> 0
F12: =E12*D12 -> 0 | H12: =G12*D12 -> 0 | J12: =I12*D12 -> 0 | K12: =E12+G12+I12 -> 0 | L12: =F12+H12+J12 -> 0
F13: =E13*D13 -> 0 | H13: =G13*D13 -> 0 | J13: =I13*D13 -> 0 | K13: =E13+G13+I13 -> 0 | L13: =F13+H13+J13 -> 0
F14: =E14*D14 -> 0 | H14: =G14*D14 -> 0 | J14: =I14*D14 -> 0 | K14: =E14+G14+I14 -> 0 | L14: =F14+H14+J14 -> 0
J15: =I15*D15 -> 0 | K15: =E15+G15+I15 -> 0 | L15: =F15+H15+J15 -> 0
F16: =E16*D16 -> 0 | H16: =G16*D16 -> 0 | J16: =I16*D16 -> 0 | K16: =E16+G16+I16 -> 0 | L16: =F16+H16+J16 -> 0
A18: [ 합 계 ] | F18: =F5 -> 0 | H18: =H5 -> 0 | J18: =J5 -> 0 | L18: =L5 -> 0

Sheet 심우관5층
A1: 공 종 별 내 역 서
A2: 품 명 | B2: 규 격 | C2: 단위 | D2: 수량 | E2: 재 료 비 | G2: 노 무 비 | I2: 경 비 | K2: 합 계 | M2: 비 고
E3: 단 가 | F3: 금 액 | G3: 단 가 | H3: 금 액 | I3: 단 가 | J3: 금 액 | K3: 단 가 | L3: 금 액
A4: 1. 유원대학교 | R4: 0.81868
A5: DVM 실외기 | C5: 대 | F5: =E5 -> 0 | L5: =F5 -> 0 | O5: 10733000 | P5: =TRUNC(O5*$R$4,0) -> 8786892
A6: 4way 실내기 | C6: 대 | F6: =E6 -> 0 | L6: =F6 -> 0 | O6: 698000 | P6: =TRUNC(O6*$R$4,0) -> 571438
A7: 4way 판넬 | C7: 대 | F7: =E7 -> 0 | L7: =F7 -> 0 | O7: 655000 | P7: =TRUNC(O7*$R$4,0) -> 536235
A8: 유연호수 | C8: M | F8: =E8 -> 0 | L8: =F8 -> 0 | O8: 621400 | P8: =TRUNC(O8*$R$4,0) -> 508727
A9: 유선 리모컨 | C9: EA | F9: =E9 -> 0 | L9: =F9 -> 0 | O9: 134000 | P9: =TRUNC(O9*$R$4,0) -> 109703
A10: 냉매 | C10: EA | F10: =E10 -> 0 | L10: =F10 -> 0 | O10: 15000 | P10: =TRUNC(O10*$R$4,0) -> 12280
A11: 철거 및 설치 | C11: 대 | H11: =G11 -> 0 | L11: =H11 -> 0 | O11: 76000 | P11: =TRUNC(O11*$R$4,0) -> 62219
A12: 양방향필터 | C12: EA | F12: =E12 -> 0 | L12: =F12 -> 0 | O12: 200000 | P12: =TRUNC(O12*$R$4,0) -> 163736
A13: 실외기 방진가드 | C13: EA | F13: =E13 -> 0 | L13: =F13 -> 0 | Q13: 750000 | R13: =TRUNC(Q13*$R$4,0) -> 614010
A14: 전기공사 | C14: 식 | H14: =G14 -> 0 | L14: =H14 -> 0 | O14: 250000 | P14: =TRUNC(O14*$R$4,0) -> 204670
A15: 배관교체 | C15: 식 | F15: =E15 -> 0 | L15: =F15 -> 0 | O15: 1000000 | P15: =TRUNC(O15*$R$4,0) -> 818680
A16: 크레인비 | C16: 식 | F16: =E16 -> 0 | L16: =F16 -> 0
A17: 기존냉매 수거 | C17: 식 | H17: =G17 -> 0 | L17: =H17 -> 0
O18: =50156800-원가계산서!E27 -> 50156800
A22: [ 합 계 ] | F22: =SUM(F5:F16) -> 0 | H22: =SUM(H5:H16) -> 0 | L22: =SUM(L5:L16) -> 0

Sheet 창조관5층
A1: 공 종 별 내 역 서
A2: 품 명 | B2: 규 격 | C2: 단위 | D2: 수량 | E2: 재 료 비 | G2: 노 무 비 | I2: 경 비 | K2: 합 계 | M2: 비 고
E3: 단 가 | F3: 금 액 | G3: 단 가 | H3: 금 액 | I3: 단 가 | J3: 금 액 | K3: 단 가 | L3: 금 액
A4: 1. 유원대학교 | R4: 0.81868
A5: DVM 실외기 | C5: 대 | O5: 10733000 | P5: =TRUNC(O5*$R$4,0) -> 8786892
A6: 4way 실내기 | C6: 대 | O6: 698000 | P6: =TRUNC(O6*$R$4,0) -> 571438
A7: 4way 판넬 | C7: 대 | O7: 655000 | P7: =TRUNC(O7*$R$4,0) -> 536235
A8: 유연호수 | C8: M | O8: 621400 | P8: =TRUNC(O8*$R$4,0) -> 508727
A9: 유선 리모컨 | C9: EA | O9: 134000 | P9: =TRUNC(O9*$R$4,0) -> 109703
A10: 냉매 | C10: EA | O10: 15000 | P10: =TRUNC(O10*$R$4,0) -> 12280
A11: 철거 및 설치 | C11: 대 | O11: 76000 | P11: =TRUNC(O11*$R$4,0) -> 62219
A12: 양방향필터 | C12: EA | O12: 200000 | P12: =TRUNC(O12*$R$4,0) -> 163736
A13: 실외기 방진가드 | C13: EA | Q13: 750000 | R13: =TRUNC(Q13*$R$4,0) -> 614010
A14: 전기공사 | C14: 식 | O14: 250000 | P14: =TRUNC(O14*$R$4,0) -> 204670
A15: 배관교체 | C15: 식 | O15: 1000000 | P15: =TRUNC(O15*$R$4,0) -> 818680
A16: 크레인비 | C16: 식
A17: 기존냉매 수거 | C17: 식
O18: =50156800-원가계산서!E27 -> 50156800
A22: [ 합 계 ]

Sheet 창조관4층
A1: 공 종 별 내 역 서
A2: 품 명 | B2: 규 격 | C2: 단위 | D2: 수량 | E2: 재 료 비 | G2: 노 무 비 | I2: 경 비 | K2: 합 계 | M2: 비 고
E3: 단 가 | F3: 금 액 | G3: 단 가 | H3: 금 액 | I3: 단 가 | J3: 금 액 | K3: 단 가 | L3: 금 액
A4: 1. 유원대학교 | R4: 0.81868
A5: DVM 실외기 | C5: 대 | O5: 10733000 | P5: =TRUNC(O5*$R$4,0) -> 8786892
A6: 4way 실내기 | C6: 대 | O6: 698000 | P6: =TRUNC(O6*$R$4,0) -> 571438
A7: 4way 판넬 | C7: 대 | O7: 655000 | P7: =TRUNC(O7*$R$4,0) -> 536235
A8: 유연호수 | C8: M | O8: 621400 | P8: =TRUNC(O8*$R$4,0) -> 508727
A9: 유선 리모컨 | C9: EA | O9: 134000 | P9: =TRUNC(O9*$R$4,0) -> 109703
A10: 냉매 | C10: EA | O10: 15000 | P10: =TRUNC(O10*$R$4,0) -> 12280
A11: 철거 및 설치 | C11: 대 | O11: 76000 | P11: =TRUNC(O11*$R$4,0) -> 62219
A12: 양방향필터 | C12: EA | O12: 200000 | P12: =TRUNC(O12*$R$4,0) -> 163736
A13: 실외기 방진가드 | C13: EA | Q13: 750000 | R13: =TRUNC(Q13*$R$4,0) -> 614010
A14: 전기공사 | C14: 식 | O14: 250000 | P14: =TRUNC(O14*$R$4,0) -> 204670
A15: 배관교체 | C15: 식 | O15: 1000000 | P15: =TRUNC(O15*$R$4,0) -> 818680
A16: 크레인비 | C16: 식
A17: 기존냉매 수거 | C17: 식
O18: =50156800-원가계산서!E27 -> 50156800
A22: [ 합 계 ]
